BEGIN:VCALENDAR
VERSION:2.0
PRODID:-//Emily&#039;s Hope® Events - ECPv6.15.20//NONSGML v1.0//EN
CALSCALE:GREGORIAN
METHOD:PUBLISH
X-ORIGINAL-URL:https://events.emilyshope.charity
X-WR-CALDESC:Events for Emily&#039;s Hope® Events
REFRESH-INTERVAL;VALUE=DURATION:PT1H
X-Robots-Tag:noindex
X-PUBLISHED-TTL:PT1H
BEGIN:VTIMEZONE
TZID:America/Chicago
BEGIN:DAYLIGHT
TZOFFSETFROM:-0600
TZOFFSETTO:-0500
TZNAME:CDT
DTSTART:20230312T080000
END:DAYLIGHT
BEGIN:STANDARD
TZOFFSETFROM:-0500
TZOFFSETTO:-0600
TZNAME:CST
DTSTART:20231105T070000
END:STANDARD
BEGIN:DAYLIGHT
TZOFFSETFROM:-0600
TZOFFSETTO:-0500
TZNAME:CDT
DTSTART:20240310T080000
END:DAYLIGHT
BEGIN:STANDARD
TZOFFSETFROM:-0500
TZOFFSETTO:-0600
TZNAME:CST
DTSTART:20241103T070000
END:STANDARD
BEGIN:DAYLIGHT
TZOFFSETFROM:-0600
TZOFFSETTO:-0500
TZNAME:CDT
DTSTART:20250309T080000
END:DAYLIGHT
BEGIN:STANDARD
TZOFFSETFROM:-0500
TZOFFSETTO:-0600
TZNAME:CST
DTSTART:20251102T070000
END:STANDARD
BEGIN:DAYLIGHT
TZOFFSETFROM:-0600
TZOFFSETTO:-0500
TZNAME:CDT
DTSTART:20260308T080000
END:DAYLIGHT
BEGIN:STANDARD
TZOFFSETFROM:-0500
TZOFFSETTO:-0600
TZNAME:CST
DTSTART:20261101T070000
END:STANDARD
BEGIN:DAYLIGHT
TZOFFSETFROM:-0600
TZOFFSETTO:-0500
TZNAME:CDT
DTSTART:20270314T080000
END:DAYLIGHT
BEGIN:STANDARD
TZOFFSETFROM:-0500
TZOFFSETTO:-0600
TZNAME:CST
DTSTART:20271107T070000
END:STANDARD
END:VTIMEZONE
BEGIN:VEVENT
DTSTART;VALUE=DATE:20260323
DTEND;VALUE=DATE:20260324
DTSTAMP:20260422T072539
CREATED:20260319T215341Z
LAST-MODIFIED:20260319T215753Z
UID:10000033-1774224000-1774310399@events.emilyshope.charity
SUMMARY:Emily’s 29th Birthday Fundraiser
DESCRIPTION:As we celebrate Emily’s 29th birthday on March 23rd\, we celebrate her beautiful spirit and the lasting impact she continues to have through Emily’s Hope. This year\, we’re setting a goal to raise $2\,900 to support Youth Art Workshops in Sioux Falls middle schools\, part of our Youth Prevention Coalition. \nDonate here  https://givebutter.com/emily29\nThese workshops give students a safe and creative space to express themselves while learning about substance use prevention\, mental health\, and making healthy choices. Your support will provide the art supplies needed for these workshops\, helping students fully engage\, explore their creativity\, and build confidence. 🎨✏️ \nWhy $2\,900? Each dollar represents a year of Emily’s precious life\, honoring her memory while bringing hope and opportunity to young people in our community. Every gift\, big or small\, makes a difference. \nThank you for keeping Emily’s Hope alive and helping us empower the next generation through art\, education\, and prevention. 💜
URL:https://events.emilyshope.charity/event/emilys-29th-birthday-fundraiser/
CATEGORIES:Fundraiser
ATTACH;FMTTYPE=image/png:https://events.emilyshope.charity/wp-content/uploads/2026/03/Emilys-29th-Birthday-1920-x-1080-px-1.png
END:VEVENT
BEGIN:VEVENT
DTSTART;TZID=America/Chicago:20260320T190500
DTEND;TZID=America/Chicago:20260320T213000
DTSTAMP:20260422T072539
CREATED:20260204T184611Z
LAST-MODIFIED:20260204T184611Z
UID:10000026-1774033500-1774042200@events.emilyshope.charity
SUMMARY:Sioux Falls Stampede vs. Sioux City Musketeers (Supporting Emily's Hope)
DESCRIPTION:Watch the Sioux Falls Stampede take on the Sioux City Musketeers and support Emily’s Hope in the process! \nThe game is part of Bluestone’s Cooperative Culture\, which features local nonprofits at select games throughout the season. \nBy purchasing your tickets through this link\, $5 of every ticket sold will be given back to Emily’s Hope.  \nAfter you have finished your purchase\, your tickets will be sent to the email you used to place the order. \nFor questions or concerns regarding your tickets\, please reach out to Nicole Jacobson at nicole@sfstampede.com or 605-271-2680.
URL:https://events.emilyshope.charity/event/sioux-falls-stampede-vs-sioux-city-musketeers-supporting-emilys-hope/
LOCATION:Denny Sanford PREMIER Center\, 1201 N. West Avenue\, Sioux Falls\, SD\, 57104\, United States
CATEGORIES:Fundraiser
ATTACH;FMTTYPE=image/webp:https://events.emilyshope.charity/wp-content/uploads/2024/09/gallery_image.webp
ORGANIZER;CN="Sioux Falls Stampede":MAILTO:info@sfstampede.com
END:VEVENT
BEGIN:VEVENT
DTSTART;TZID=America/Chicago:20260124T173000
DTEND;TZID=America/Chicago:20260124T220000
DTSTAMP:20260422T072539
CREATED:20250204T194109Z
LAST-MODIFIED:20260106T200409Z
UID:10000008-1769275800-1769292000@events.emilyshope.charity
SUMMARY:Emily's Hope Gala: 2026 Art Show & Auction
DESCRIPTION:The 2026 Emily’s Hope Gala: Art Show & Auction will be on January 24\, 2026.  \nEmbrace the power of art and community as we come together for the Emily’s Hope Art Show & Auction\, one of our organization’s most cherished fundraisers. This remarkable event celebrates the life and creative spirit of Emily Groth\, a prolific painter whose life was cut short. We are also honored to feature the extraordinary talents of local and regional artists\, who have generously contributed their work to support the mission of Emily’s Hope – stopping stigma\, saving lives. \nJoin us for an inspiring evening at Canopy by Hilton Sioux Falls Downtown. The event will feature live art production\, a silent and live auction showcasing local and regional artists’ work and tempting packages from local businesses. Plus\, a delectable dinner and engaging program. \nThe battle against addiction remains an enormous challenge\, with over 78\,309 lives lost to overdoses last year – that’s an average of 215 deaths daily. With your generous support\, we aim to change this narrative one life at a time. By attending this event\, you are helping us make a significant impact on individuals and families affected by substance use disorder. \nThe 2026 Emily’s Hope Art Show & Auction carries the theme Beauty From Ashes\, inspired by Emily’s painting Incongruous. Just as a rose blooms from a skull in her artwork\, this event reflects how Emily’s Hope is transforming tragedy into purpose — creating beauty from ashes by helping individuals and families find recovery\, healing\, and new beginnings. \nLearn more about the Art Show & Auction. \nOur Sponsors\n \n  \n 
URL:https://events.emilyshope.charity/event/emilys-hope-gala-2026-art-show-auction/
LOCATION:Canopy by Hilton Sioux Falls Downtown\, 120 E 4th Pl\, Sioux Falls\, SD\, 57104\, United States
CATEGORIES:Fundraiser
ATTACH;FMTTYPE=image/jpeg:https://events.emilyshope.charity/wp-content/uploads/2025/02/IMG_5691.jpeg
END:VEVENT
BEGIN:VEVENT
DTSTART;TZID=America/Chicago:20251101T080000
DTEND;TZID=America/Chicago:20251231T235900
DTSTAMP:20260422T072539
CREATED:20251106T225636Z
LAST-MODIFIED:20251112T151424Z
UID:10000023-1761984000-1767225540@events.emilyshope.charity
SUMMARY:Downtown Gives 2025
DESCRIPTION:Each year\, Downtown Sioux Falls\, Inc. (DTSF) partners with local businesses and the community to support a featured nonprofit. This year\, Emily’s Hope is honored to be selected as the 2025 Downtown Gives nonprofit recipient. \nWhen you purchase a $15 Downtown Gives coupon book\, you’ll receive exclusive deals from a wide variety of downtown shops\, restaurants\, and service providers — all while giving back to a meaningful cause. Proceeds from each book go directly to Emily’s Hope to support our mission of removing the stigma of substance use disorder through education\, prevention\, and recovery. \n\nCoupon Book Sales: November 1–December 31\, 2025\nCoupon Redemption: Through March 31\, 2026\n\nBooks are available at participating downtown businesses\, and every purchase helps make a difference right here in Sioux Falls. \nParticipating locations include: 605 Running Co.\, Child’s Play Toys\, Coffea Roasterie\, Combine\, Dahlia\, Great Outdoor Store\, Lauriebelles\, Mint + Basil\, MK Threads Boutique\, Nyberg’s Ace\, Plum’s\, Rose & Eugene\, Simply Perfect\, Sticks and Steel\, Terra Shepherd\, The Cookie Jar Eatery\, The Spice & Tea Exchange\, Threads by Simply Perfect\, Trio Jazz Club\, Zandbroz Variety\, City of Sioux Falls\, and more — plus\, you’ll have a chance to win a $100 gift card from Duluth Trading! \nWhether you’re checking off your holiday shopping list or treating yourself\, Downtown Gives is the perfect way to shop local and give back to your community. \nLearn more: https://dtsf.com/event/downtown-gives-2025/
URL:https://events.emilyshope.charity/event/downtown-gives-2025/
LOCATION:Downtown Sioux Falls\, North Phillips Avenue\, Sioux Falls\, SD\, 57104\, United States
CATEGORIES:Fundraiser
ATTACH;FMTTYPE=image/png:https://events.emilyshope.charity/wp-content/uploads/2025/11/Screenshot-2025-11-06-at-4.52.59-PM.png
ORGANIZER;CN="Downtown Sioux Falls":MAILTO:info@dtsf.com
END:VEVENT
BEGIN:VEVENT
DTSTART;TZID=America/Chicago:20250716T170000
DTEND;TZID=America/Chicago:20250716T210000
DTSTAMP:20260422T072539
CREATED:20240930T185431Z
LAST-MODIFIED:20250623T135412Z
UID:10000006-1752685200-1752699600@events.emilyshope.charity
SUMMARY:Emily's Hope Cruise Night at Autoland
DESCRIPTION:Join us for the Emily’s Hope Car Cruise Night presented by Autoland in Sioux Falls. This exciting event welcomes vehicles of ALL ages and invites car enthusiasts from far and wide to showcase their prized automobiles while supporting a meaningful cause. \nThe event is open to the public\, offering an opportunity for everyone\, regardless of their age or automotive preferences\, to revel in the excitement! \nWe’re also grateful to have Mogen’s Heroes playing again at this year’s event! 🎵 \nIn addition to the stunning display of vehicles\, 100% of the proceeds and donations from this event will go toward furthering the mission of Emily’s Hope to stop stigma and save lives!
URL:https://events.emilyshope.charity/event/emilys-hope-cruise-night-at-autoland-2025/
LOCATION:Autoland\, 2500 N Maple Ln\, Sioux Falls\, SD\, 57107\, United States
CATEGORIES:Fundraiser
ATTACH;FMTTYPE=image/jpeg:https://events.emilyshope.charity/wp-content/uploads/2024/09/Car-Show-23-29-of-60.jpg
END:VEVENT
BEGIN:VEVENT
DTSTART;VALUE=DATE:20250628
DTEND;VALUE=DATE:20250629
DTSTAMP:20260422T072539
CREATED:20240930T182924Z
LAST-MODIFIED:20250522T220010Z
UID:10000004-1751068800-1751155199@events.emilyshope.charity
SUMMARY:7th Annual Emily’s Hope Poker Run
DESCRIPTION:Save the Date!\nMark your calendars for the 7th Annual Emily’s Hope Poker Run on June 28\, 2025. Whether you ride a motorcycle or drive any street-legal vehicle\, you are invited to join us for this amazing event! \nEvent time TBD.
URL:https://events.emilyshope.charity/event/7th-annual-emilys-hope-poker-run/
CATEGORIES:Fundraiser
ATTACH;FMTTYPE=image/jpeg:https://events.emilyshope.charity/wp-content/uploads/2024/09/Poker-Run-2023-24-of-65-scaled.jpg
END:VEVENT
BEGIN:VEVENT
DTSTART;TZID=America/Chicago:20250503T150000
DTEND;TZID=America/Chicago:20250503T170000
DTSTAMP:20260422T072539
CREATED:20250426T185351Z
LAST-MODIFIED:20250426T185351Z
UID:10000018-1746284400-1746291600@events.emilyshope.charity
SUMMARY:Charity Bingo benefiting Emily's Hope
DESCRIPTION:From Buffalo Ridge Brewing: Our next and final Charity Bingo event of the season takes place on Saturday\, May 3rd\, at 3pm! All proceeds will benefit Emily’s Hope. Fun and Prizes! The doors open at 2pm\, bingo starts at 3pm.
URL:https://events.emilyshope.charity/event/charity-bingo-benefiting-emilys-hope/
LOCATION:Buffalo Ridge Brewing\, 102 N. Main\, Hartford\, SD\, 57033\, United States
CATEGORIES:Community Event,Fundraiser
ATTACH;FMTTYPE=image/jpeg:https://events.emilyshope.charity/wp-content/uploads/2025/04/492699130_1240945244698501_3687995272892568502_n.jpg
ORGANIZER;CN="Buffalo Ridge Brewing":MAILTO:support@buffaloridgebrewing.com
END:VEVENT
BEGIN:VEVENT
DTSTART;TZID=America/Chicago:20250318T190500
DTEND;TZID=America/Chicago:20250318T213000
DTSTAMP:20260422T072539
CREATED:20240930T184839Z
LAST-MODIFIED:20240930T184911Z
UID:10000005-1742324700-1742333400@events.emilyshope.charity
SUMMARY:Sioux Falls Stampede vs. Waterloo Blackhawks (Supporting Emily's Hope)
DESCRIPTION:Watch the Sioux Falls Stampede take on the Waterloo Blackhawks and support Emily’s Hope in the process! \nThe game is part of Bluestone’s Cooperative Culture\, which features local nonprofits at select games throughout the season.
URL:https://events.emilyshope.charity/event/sioux-falls-stampede-game/
LOCATION:Denny Sanford PREMIER Center\, 1201 N. West Avenue\, Sioux Falls\, SD\, 57104\, United States
CATEGORIES:Fundraiser
ATTACH;FMTTYPE=image/webp:https://events.emilyshope.charity/wp-content/uploads/2024/09/gallery_image.webp
ORGANIZER;CN="Sioux Falls Stampede":MAILTO:info@sfstampede.com
END:VEVENT
BEGIN:VEVENT
DTSTART;VALUE=DATE:20250203
DTEND;VALUE=DATE:20250301
DTSTAMP:20260422T072539
CREATED:20250204T195116Z
LAST-MODIFIED:20250206T222952Z
UID:10000009-1738540800-1740787199@events.emilyshope.charity
SUMMARY:Sioux Empire Pizza Battle
DESCRIPTION:Participate in the Sioux Empire Pizza Battle and support Emily’s Hope! Charlie’s Pizza and both Tomacelli’s Pizza & Pasta locations in Sioux Falls will be donating a portion of the proceeds from their featured pizzas. \nLearn more about the Sioux Empire Pizza Battle. \nCharlie’s Pizza\n20% of the proceeds from sales of The Judy Garland at Charlie’s Pizza in Sioux Falls will be donated back to Emily’s Hope! \nThe Judy Garland\n \nIndulge in our creamy Alfredo pizza\, topped with savory spinach\, crispy bacon\, tender chicken\, and a touch of garlic. Finished with a sprinkle of Parmesan cheese and a drizzle of sweet balsamic glaze for an unforgettable flavor explosion. \nTomacelli’s Pizza & Pasta\n$3 from each The Crab Rangoon or Sausage\, Spinach & Stout pizza at Tomacelli’s Pizza & Pasta will be donated back to Emily’s Hope! \nEast Side\nThe Crab Rangoon\n \nOur fresh dough is made daily and topped with crab meat\, cream cheese\, and our signature mozzarella cheese blend. After baking\, we top it with crispy fried wonton strips\, drizzle with sweet Thai chili sauce\, and garnish with green onions and sesame seeds. \nWest Side\nSausage\, Spinach & Stout\n \n\n\n\n\n\nTomacelli’s homemade pizza dough is infused with Guiness stout beer. It is topped with our signature pizza sauce\, garlic and extra virgin olive oil marinated fresh spinach\, zesty hand-picked Italian sausage\, roasted red peppers\, and our mozzarella blend. Once out of the oven\, it is topped with cracked black pepper\,fresh basil\, and shredded parmesan cheese. \n\n\n\n\n\n\n\n\n\n\n\n\n\n\n\n\n\n 
URL:https://events.emilyshope.charity/event/sioux-empire-pizza-battle/
LOCATION:Charlie’s Pizza\, 6213 S Old Village Pl.\, Sioux Falls\, SD\, 57108\, United States
CATEGORIES:Fundraiser
ATTACH;FMTTYPE=image/webp:https://events.emilyshope.charity/wp-content/uploads/2025/02/sf-pizzabattle-1500.webp
END:VEVENT
BEGIN:VEVENT
DTSTART;TZID=America/Chicago:20250125T173000
DTEND;TZID=America/Chicago:20250125T220000
DTSTAMP:20260422T072539
CREATED:20240928T085532Z
LAST-MODIFIED:20240930T182625Z
UID:10000001-1737826200-1737842400@events.emilyshope.charity
SUMMARY:Emily's Hope Art Show & Auction
DESCRIPTION:Embrace the power of art and community as we come together for the Emily’s Hope Art Show & Auction\, one of our organization’s most cherished fundraisers. This remarkable event celebrates the life and creative spirit of Emily Groth\, a prolific painter whose life was cut short. We are also honored to feature the extraordinary talents of local and regional artists\, who have generously contributed their work to support the mission of Emily’s Hope – stopping stigma\, saving lives. \nJoin us for an inspiring evening at Canopy by Hilton Sioux Falls Downtown. The event will feature live art production\, a silent and live auction showcasing local and regional artists’ work and tempting packages from local businesses. Plus\, a delectable dinner and engaging program. \nThe battle against addiction remains an enormous challenge\, with over 103\,451 lives lost to overdoses last year – that’s an average of 283 deaths daily. With your generous support\, we aim to change this narrative one life at a time. By attending this event\, you are helping us make a significant impact on individuals and families affected by substance use disorder. \nTickets & Tables 
URL:https://events.emilyshope.charity/event/2025-art-show-auction/
LOCATION:Canopy by Hilton Sioux Falls Downtown\, 120 E 4th Pl\, Sioux Falls\, SD\, 57104\, United States
CATEGORIES:Fundraiser
ATTACH;FMTTYPE=image/png:https://events.emilyshope.charity/wp-content/uploads/2024/09/Art-Show-Auction-2025-1.png
END:VEVENT
BEGIN:VEVENT
DTSTART;VALUE=DATE:20241203
DTEND;VALUE=DATE:20241204
DTSTAMP:20260422T072539
CREATED:20240930T182604Z
LAST-MODIFIED:20241126T215614Z
UID:10000003-1733184000-1733270399@events.emilyshope.charity
SUMMARY:Hope in Action: An Emily's Hope Giving Tuesday Special
DESCRIPTION:Join us for Hope in Action: An Emily’s Hope Giving Tuesday Special streaming all day on Tuesday\, December 3\, 2024\, to see how Emily’s Hope is making a difference—thanks to supporters like YOU. \n \nThis global day of generosity reminds us that even the smallest acts of kindness can create a ripple effect of change. Every dollar\, share\, and effort adds up to make a big impact. Together\, we can turn hope into action for those in need. \n\nOur goal is $20\,000!  \nDonate Now\n\nThanks to an anonymous donor\, all donations will be matched up to $10\,000 on Giving Tuesday! \nAs a thank you for donating\, you will receive: \n\n$50 (to $99) – an Emily’s Hope T-Shirt\n$100 (to $249) – One Emily’s Hope children’s book (choose from grades 1-5)\n$250 (or above) – One set of Emily’s Hope children’s books (grades 1-5)\n\nThe match does not count toward your gift. Only donations received on Dec. 3\, 2024\, are eligible for gifts; donors can opt out of them. While supplies last.
URL:https://events.emilyshope.charity/event/giving-tuesday-2024/
CATEGORIES:Fundraiser
ATTACH;FMTTYPE=image/png:https://events.emilyshope.charity/wp-content/uploads/2024/09/Copy-of-Giving-Tuesday-2024-Open.png
LOCATION:
END:VEVENT
END:VCALENDAR